BEGIN:VCALENDAR
VERSION:2.0
PRODID:-//Assen Zoekt - ECPv6.14.0//NONSGML v1.0//EN
CALSCALE:GREGORIAN
METHOD:PUBLISH
X-ORIGINAL-URL:https://assenzoekt.nl
X-WR-CALDESC:Evenementen voor Assen Zoekt
REFRESH-INTERVAL;VALUE=DURATION:PT1H
X-Robots-Tag:noindex
X-PUBLISHED-TTL:PT1H
BEGIN:VTIMEZONE
TZID:Europe/Amsterdam
BEGIN:DAYLIGHT
TZOFFSETFROM:+0100
TZOFFSETTO:+0200
TZNAME:CEST
DTSTART:20220327T010000
END:DAYLIGHT
BEGIN:STANDARD
TZOFFSETFROM:+0200
TZOFFSETTO:+0100
TZNAME:CET
DTSTART:20221030T010000
END:STANDARD
BEGIN:DAYLIGHT
TZOFFSETFROM:+0100
TZOFFSETTO:+0200
TZNAME:CEST
DTSTART:20230326T010000
END:DAYLIGHT
BEGIN:STANDARD
TZOFFSETFROM:+0200
TZOFFSETTO:+0100
TZNAME:CET
DTSTART:20231029T010000
END:STANDARD
BEGIN:DAYLIGHT
TZOFFSETFROM:+0100
TZOFFSETTO:+0200
TZNAME:CEST
DTSTART:20240331T010000
END:DAYLIGHT
BEGIN:STANDARD
TZOFFSETFROM:+0200
TZOFFSETTO:+0100
TZNAME:CET
DTSTART:20241027T010000
END:STANDARD
END:VTIMEZONE
BEGIN:VTIMEZONE
TZID:Europe/Paris
BEGIN:DAYLIGHT
TZOFFSETFROM:+0100
TZOFFSETTO:+0200
TZNAME:CEST
DTSTART:20220327T010000
END:DAYLIGHT
BEGIN:STANDARD
TZOFFSETFROM:+0200
TZOFFSETTO:+0100
TZNAME:CET
DTSTART:20221030T010000
END:STANDARD
BEGIN:DAYLIGHT
TZOFFSETFROM:+0100
TZOFFSETTO:+0200
TZNAME:CEST
DTSTART:20230326T010000
END:DAYLIGHT
BEGIN:STANDARD
TZOFFSETFROM:+0200
TZOFFSETTO:+0100
TZNAME:CET
DTSTART:20231029T010000
END:STANDARD
BEGIN:DAYLIGHT
TZOFFSETFROM:+0100
TZOFFSETTO:+0200
TZNAME:CEST
DTSTART:20240331T010000
END:DAYLIGHT
BEGIN:STANDARD
TZOFFSETFROM:+0200
TZOFFSETTO:+0100
TZNAME:CET
DTSTART:20241027T010000
END:STANDARD
END:VTIMEZONE
BEGIN:VEVENT
DTSTART;TZID=Europe/Amsterdam:20240317T111500
DTEND;TZID=Europe/Amsterdam:20240317T123000
DTSTAMP:20260420T135656
CREATED:20240305T122948Z
LAST-MODIFIED:20240305T122948Z
UID:7329-1710674100-1710678600@assenzoekt.nl
SUMMARY:Samenkomst
DESCRIPTION:Vanaf 11.00 uur ben je van harte welkom voor koffie of thee in de Open Hof. Vanaf 11.15 uur begint de dienst\, die duurt tot ongeveer 12.30 uur. Daarna is er opnieuw ruimte voor koffie\, thee en ontmoeting. \nDe allerkleinsten kunnen tijdens de dienst terecht in de crèche. Voor de oudere kinderen is er een kinderprogramma of zijn er tekentafels.
URL:https://assenzoekt.nl/event/samenkomst-77/
LOCATION:De Open Hof\, Sleutelbloemstraat 1\, Assen\, Nederland
END:VEVENT
BEGIN:VEVENT
DTSTART;TZID=Europe/Amsterdam:20240310T111500
DTEND;TZID=Europe/Amsterdam:20240310T123000
DTSTAMP:20260420T135656
CREATED:20240301T123537Z
LAST-MODIFIED:20240301T123537Z
UID:7272-1710069300-1710073800@assenzoekt.nl
SUMMARY:Samenkomst
DESCRIPTION:Vanaf 11.00 uur ben je van harte welkom voor koffie of thee in de Open Hof. Vanaf 11.15 uur begint de dienst\, die duurt tot ongeveer 12.30 uur. Daarna is er opnieuw ruimte voor koffie\, thee en ontmoeting. De allerkleinsten kunnen tijdens de dienst terecht in de crèche.
URL:https://assenzoekt.nl/event/samenkomst-76/
LOCATION:De Open Hof\, Sleutelbloemstraat 1\, Assen\, Nederland
END:VEVENT
BEGIN:VEVENT
DTSTART;VALUE=DATE:20240303
DTEND;VALUE=DATE:20240304
DTSTAMP:20260420T135656
CREATED:20240301T123357Z
LAST-MODIFIED:20240301T123357Z
UID:7270-1709424000-1709510399@assenzoekt.nl
SUMMARY:Familiezondag
DESCRIPTION:Er is vandaag geen centrale samenkomst. In plaats daarvan komen de huisgroepen  bij elkaar op verschillende locaties. Neem voor meer informatie contact met ons op.
URL:https://assenzoekt.nl/event/familiezondag-13/
END:VEVENT
BEGIN:VEVENT
DTSTART;TZID=Europe/Amsterdam:20240128T111500
DTEND;TZID=Europe/Amsterdam:20240128T123000
DTSTAMP:20260420T135656
CREATED:20240105T183546Z
LAST-MODIFIED:20240105T183546Z
UID:7052-1706440500-1706445000@assenzoekt.nl
SUMMARY:Samenkomst
DESCRIPTION:Vanaf 11.00 uur ben je van harte welkom voor koffie of thee in de Open Hof. Vanaf 11.15 uur begint de dienst\, die duurt tot ongeveer 12.30 uur. Daarna is er opnieuw ruimte voor koffie\, thee en ontmoeting. De allerkleinsten kunnen tijdens de dienst terecht in de crèche.
URL:https://assenzoekt.nl/event/samenkomst-75/
LOCATION:De Open Hof\, Sleutelbloemstraat 1\, Assen\, Nederland
END:VEVENT
BEGIN:VEVENT
DTSTART;TZID=Europe/Amsterdam:20240121T111500
DTEND;TZID=Europe/Amsterdam:20240121T123000
DTSTAMP:20260420T135656
CREATED:20240105T183507Z
LAST-MODIFIED:20240105T183507Z
UID:7050-1705835700-1705840200@assenzoekt.nl
SUMMARY:Samenkomst
DESCRIPTION:Vanaf 11.00 uur ben je van harte welkom voor koffie of thee in de Open Hof. Vanaf 11.15 uur begint de dienst\, die duurt tot ongeveer 12.30 uur. Daarna is er opnieuw ruimte voor koffie\, thee en ontmoeting. De allerkleinsten kunnen tijdens de dienst terecht in de crèche.
URL:https://assenzoekt.nl/event/samenkomst-74/
LOCATION:De Open Hof\, Sleutelbloemstraat 1\, Assen\, Nederland
END:VEVENT
BEGIN:VEVENT
DTSTART;TZID=Europe/Amsterdam:20240114T111500
DTEND;TZID=Europe/Amsterdam:20240114T123000
DTSTAMP:20260420T135656
CREATED:20240105T183411Z
LAST-MODIFIED:20240105T183411Z
UID:7048-1705230900-1705235400@assenzoekt.nl
SUMMARY:Samenkomst
DESCRIPTION:Kairosdienst met een persoonlijk getuigenis. Vanaf 11.00 uur ben je van harte welkom voor koffie of thee in de Open Hof. Vanaf 11.15 uur begint de dienst\, die duurt tot ongeveer 12.30 uur. Daarna is er opnieuw ruimte voor koffie\, thee en ontmoeting. De allerkleinsten kunnen tijdens de dienst terecht in de crèche.
URL:https://assenzoekt.nl/event/samenkomst-73/
LOCATION:De Open Hof\, Sleutelbloemstraat 1\, Assen\, Nederland
END:VEVENT
BEGIN:VEVENT
DTSTART;TZID=Europe/Amsterdam:20231217T111500
DTEND;TZID=Europe/Amsterdam:20231217T123000
DTSTAMP:20260420T135656
CREATED:20230926T131518Z
LAST-MODIFIED:20230926T131518Z
UID:6638-1702811700-1702816200@assenzoekt.nl
SUMMARY:Samenkomst
DESCRIPTION:Vanaf 11.00 uur ben je van harte welkom voor koffie of thee in de Open Hof. Vanaf 11.15 uur begint de dienst\, die duurt tot ongeveer 12.30 uur. Daarna is er opnieuw ruimte voor koffie\, thee en ontmoeting.
URL:https://assenzoekt.nl/event/samenkomst-72/
LOCATION:De Open Hof\, Sleutelbloemstraat 1\, Assen\, Nederland
END:VEVENT
BEGIN:VEVENT
DTSTART;TZID=Europe/Amsterdam:20231210T111500
DTEND;TZID=Europe/Amsterdam:20231210T123000
DTSTAMP:20260420T135656
CREATED:20230926T131447Z
LAST-MODIFIED:20230926T131447Z
UID:6636-1702206900-1702211400@assenzoekt.nl
SUMMARY:Samenkomst
DESCRIPTION:Vanaf 11.00 uur ben je van harte welkom voor koffie of thee in de Open Hof. Vanaf 11.15 uur begint de dienst\, die duurt tot ongeveer 12.30 uur. Daarna is er opnieuw ruimte voor koffie\, thee en ontmoeting.
URL:https://assenzoekt.nl/event/samenkomst-71/
LOCATION:De Open Hof\, Sleutelbloemstraat 1\, Assen\, Nederland
END:VEVENT
BEGIN:VEVENT
DTSTART;VALUE=DATE:20231203
DTEND;VALUE=DATE:20231204
DTSTAMP:20260420T135656
CREATED:20230926T131343Z
LAST-MODIFIED:20230926T131343Z
UID:6634-1701561600-1701647999@assenzoekt.nl
SUMMARY:Familiezondag
DESCRIPTION:Er is vandaag geen centrale samenkomst. In plaats daarvan komen de huisgroepen  bij elkaar op verschillende locaties. Neem voor meer informatie contact met ons op.
URL:https://assenzoekt.nl/event/familiezondag-11/
END:VEVENT
BEGIN:VEVENT
DTSTART;TZID=Europe/Amsterdam:20231126T111500
DTEND;TZID=Europe/Amsterdam:20231126T123000
DTSTAMP:20260420T135656
CREATED:20230926T131239Z
LAST-MODIFIED:20230926T131251Z
UID:6629-1700997300-1701001800@assenzoekt.nl
SUMMARY:Samenkomst
DESCRIPTION:Vanaf 11.00 uur ben je van harte welkom voor koffie of thee in de Open Hof. Vanaf 11.15 uur begint de dienst\, die duurt tot ongeveer 12.30 uur. Daarna is er opnieuw ruimte voor koffie\, thee en ontmoeting.
URL:https://assenzoekt.nl/event/samenkomst-70/
LOCATION:De Open Hof\, Sleutelbloemstraat 1\, Assen\, Nederland
END:VEVENT
BEGIN:VEVENT
DTSTART;TZID=Europe/Amsterdam:20231119T111500
DTEND;TZID=Europe/Amsterdam:20231119T123000
DTSTAMP:20260420T135656
CREATED:20230926T131212Z
LAST-MODIFIED:20230926T131212Z
UID:6630-1700392500-1700397000@assenzoekt.nl
SUMMARY:Samenkomst
DESCRIPTION:Vanaf 11.00 uur ben je van harte welkom voor koffie of thee in de Open Hof. Vanaf 11.15 uur begint de dienst\, die duurt tot ongeveer 12.30 uur. Daarna is er opnieuw ruimte voor koffie\, thee en ontmoeting.
URL:https://assenzoekt.nl/event/samenkomst-69/
LOCATION:De Open Hof\, Sleutelbloemstraat 1\, Assen\, Nederland
END:VEVENT
BEGIN:VEVENT
DTSTART;TZID=Europe/Amsterdam:20231112T111500
DTEND;TZID=Europe/Amsterdam:20231112T123000
DTSTAMP:20260420T135656
CREATED:20230926T131123Z
LAST-MODIFIED:20230926T131123Z
UID:6628-1699787700-1699792200@assenzoekt.nl
SUMMARY:Samenkomst
DESCRIPTION:Vanaf 11.00 uur ben je van harte welkom voor koffie of thee in de Open Hof. Vanaf 11.15 uur begint de dienst\, die duurt tot ongeveer 12.30 uur. Daarna is er opnieuw ruimte voor koffie\, thee en ontmoeting.
URL:https://assenzoekt.nl/event/samenkomst-68/
LOCATION:De Open Hof\, Sleutelbloemstraat 1\, Assen\, Nederland
END:VEVENT
BEGIN:VEVENT
DTSTART;VALUE=DATE:20231105
DTEND;VALUE=DATE:20231106
DTSTAMP:20260420T135656
CREATED:20230926T130947Z
LAST-MODIFIED:20230926T130947Z
UID:6626-1699142400-1699228799@assenzoekt.nl
SUMMARY:Familiezondag
DESCRIPTION:Er is vandaag geen centrale samenkomst. In plaats daarvan komen de huisgroepen  bij elkaar op verschillende locaties. Neem voor meer informatie contact met ons op.
URL:https://assenzoekt.nl/event/familiezondag-10/
END:VEVENT
BEGIN:VEVENT
DTSTART;TZID=Europe/Amsterdam:20231029T111500
DTEND;TZID=Europe/Amsterdam:20231029T123000
DTSTAMP:20260420T135656
CREATED:20230926T113910Z
LAST-MODIFIED:20230926T113910Z
UID:6618-1698578100-1698582600@assenzoekt.nl
SUMMARY:Samenkomst
DESCRIPTION:Vanaf 11.00 uur ben je van harte welkom voor koffie of thee in de Open Hof. Vanaf 11.15 uur begint de dienst\, die duurt tot ongeveer 12.30 uur. Dan is er opnieuw ruimte voor koffie\, thee en ontmoeting.
URL:https://assenzoekt.nl/event/samenkomst-67/
LOCATION:De Open Hof\, Sleutelbloemstraat 1\, Assen\, Nederland
END:VEVENT
BEGIN:VEVENT
DTSTART;TZID=Europe/Amsterdam:20231022T111500
DTEND;TZID=Europe/Amsterdam:20231022T123000
DTSTAMP:20260420T135656
CREATED:20230926T113844Z
LAST-MODIFIED:20230926T113844Z
UID:6617-1697973300-1697977800@assenzoekt.nl
SUMMARY:Samenkomst
DESCRIPTION:Vanaf 11.00 uur ben je van harte welkom voor koffie of thee in de Open Hof. Vanaf 11.15 uur begint de dienst\, die duurt tot ongeveer 12.30 uur. Dan is er opnieuw ruimte voor koffie\, thee en ontmoeting.
URL:https://assenzoekt.nl/event/samenkomst-66/
LOCATION:De Open Hof\, Sleutelbloemstraat 1\, Assen\, Nederland
END:VEVENT
BEGIN:VEVENT
DTSTART;TZID=Europe/Amsterdam:20231015T111500
DTEND;TZID=Europe/Amsterdam:20231015T123000
DTSTAMP:20260420T135656
CREATED:20230926T113804Z
LAST-MODIFIED:20230926T113804Z
UID:6616-1697368500-1697373000@assenzoekt.nl
SUMMARY:Samenkomst
DESCRIPTION:Vanaf 11.00 uur ben je van harte welkom voor koffie of thee in de Open Hof. Vanaf 11.15 uur begint de dienst\, die duurt tot ongeveer 12.30 uur. Dan is er opnieuw ruimte voor koffie\, thee en ontmoeting.
URL:https://assenzoekt.nl/event/samenkomst-65/
LOCATION:De Open Hof\, Sleutelbloemstraat 1\, Assen\, Nederland
END:VEVENT
BEGIN:VEVENT
DTSTART;TZID=Europe/Paris:20231011T183000
DTEND;TZID=Europe/Paris:20231011T213000
DTSTAMP:20260420T135656
CREATED:20230926T114756Z
LAST-MODIFIED:20230926T114756Z
UID:6624-1697049000-1697059800@assenzoekt.nl
SUMMARY:Alpha-cursus
DESCRIPTION:Derde avond van de Alpha-cursus. Wil je meedoen? Kijk dan op www.assenzoekt.nl/alpha-cursus en meld je aan.
URL:https://assenzoekt.nl/event/alpha-cursus-3/
END:VEVENT
BEGIN:VEVENT
DTSTART;TZID=Europe/Amsterdam:20231008T111500
DTEND;TZID=Europe/Amsterdam:20231008T123000
DTSTAMP:20260420T135656
CREATED:20230926T112418Z
LAST-MODIFIED:20230926T112418Z
UID:6610-1696763700-1696768200@assenzoekt.nl
SUMMARY:Samenkomst
DESCRIPTION:Vanaf 11.00 uur ben je van harte welkom voor koffie of thee in de Open Hof. Vanaf 11.15 uur begint de dienst\, die duurt tot ongeveer 12.30 uur. Dan is er opnieuw ruimte voor koffie\, thee en ontmoeting.
URL:https://assenzoekt.nl/event/samenkomst-64/
LOCATION:De Open Hof\, Sleutelbloemstraat 1\, Assen\, Nederland
END:VEVENT
BEGIN:VEVENT
DTSTART;TZID=Europe/Paris:20231004T183000
DTEND;TZID=Europe/Paris:20231004T213000
DTSTAMP:20260420T135656
CREATED:20230926T114628Z
LAST-MODIFIED:20230926T114628Z
UID:6622-1696444200-1696455000@assenzoekt.nl
SUMMARY:Alpha-cursus
DESCRIPTION:Tweede avond van de Alpha-cursus. Wil je meedoen? Kijk dan op www.assenzoekt.nl/alpha-cursus en meld je aan.
URL:https://assenzoekt.nl/event/alpha-cursus-2/
END:VEVENT
BEGIN:VEVENT
DTSTART;VALUE=DATE:20231001
DTEND;VALUE=DATE:20231002
DTSTAMP:20260420T135656
CREATED:20230926T111531Z
LAST-MODIFIED:20230926T111531Z
UID:6611-1696118400-1696204799@assenzoekt.nl
SUMMARY:Familiezondag
DESCRIPTION:Er is vandaag geen centrale samenkomst. In plaats daarvan komen de huisgroepen  bij elkaar op verschillende locaties. Neem voor meer informatie contact met ons op.
URL:https://assenzoekt.nl/event/familiezondag-9/
END:VEVENT
BEGIN:VEVENT
DTSTART;TZID=Europe/Paris:20230927T183000
DTEND;TZID=Europe/Paris:20230927T213000
DTSTAMP:20260420T135656
CREATED:20230926T112754Z
LAST-MODIFIED:20230926T112754Z
UID:6614-1695839400-1695850200@assenzoekt.nl
SUMMARY:Alpha-cursus
DESCRIPTION:Eerste avond van de Alpha-cursus. Wil je meedoen? Kijk dan op www.assenzoekt.nl/alpha-cursus en meld je aan.
URL:https://assenzoekt.nl/event/alpha-cursus/
END:VEVENT
BEGIN:VEVENT
DTSTART;TZID=Europe/Amsterdam:20221127T111500
DTEND;TZID=Europe/Amsterdam:20221127T123000
DTSTAMP:20260420T135656
CREATED:20221025T114106Z
LAST-MODIFIED:20221025T114129Z
UID:5643-1669547700-1669552200@assenzoekt.nl
SUMMARY:Samenkomst
DESCRIPTION:Inloop 11.00\nStart 11.15
URL:https://assenzoekt.nl/event/samenkomst-62/
LOCATION:De Open Hof\, Sleutelbloemstraat 1\, Assen\, Nederland
END:VEVENT
BEGIN:VEVENT
DTSTART;TZID=Europe/Amsterdam:20221120T111500
DTEND;TZID=Europe/Amsterdam:20221120T123000
DTSTAMP:20260420T135656
CREATED:20221025T114223Z
LAST-MODIFIED:20221025T114223Z
UID:5646-1668942900-1668947400@assenzoekt.nl
SUMMARY:Samenkomst
DESCRIPTION:Inloop 11.00\nStart 11.15
URL:https://assenzoekt.nl/event/samenkomst-63/
LOCATION:De Open Hof\, Sleutelbloemstraat 1\, Assen\, Nederland
END:VEVENT
BEGIN:VEVENT
DTSTART;TZID=Europe/Amsterdam:20221113T111500
DTEND;TZID=Europe/Amsterdam:20221113T123000
DTSTAMP:20260420T135656
CREATED:20221025T113943Z
LAST-MODIFIED:20221025T113943Z
UID:5640-1668338100-1668342600@assenzoekt.nl
SUMMARY:Samenkomst
DESCRIPTION:Inloop 11.00\nStart 11.15
URL:https://assenzoekt.nl/event/samenkomst-61/
LOCATION:De Open Hof\, Sleutelbloemstraat 1\, Assen\, Nederland
END:VEVENT
BEGIN:VEVENT
DTSTART;VALUE=DATE:20221106
DTEND;VALUE=DATE:20221107
DTSTAMP:20260420T135656
CREATED:20221025T113902Z
LAST-MODIFIED:20221025T113902Z
UID:5638-1667692800-1667779199@assenzoekt.nl
SUMMARY:Familiezondag
DESCRIPTION:Deze zondag speelt de Assen Zoekt Jukebox het nummer ‘Is this the world we created.’ Klik hier voor de link en een aantal vragen over dit oude maar toch actuele nummer\, om te overdenken of te bespreken in je huisgroep. \nEr is vandaag geen centrale samenkomst. In plaats daarvan komen de huigroepen  bij elkaar.
URL:https://assenzoekt.nl/event/familiezondag-8/
END:VEVENT
BEGIN:VEVENT
DTSTART;TZID=Europe/Amsterdam:20221030T111500
DTEND;TZID=Europe/Amsterdam:20221030T123000
DTSTAMP:20260420T135656
CREATED:20221025T113810Z
LAST-MODIFIED:20221025T113810Z
UID:5636-1667128500-1667133000@assenzoekt.nl
SUMMARY:Samenkomst
DESCRIPTION:Inloop 11.00\nStart 11.15
URL:https://assenzoekt.nl/event/samenkomst-60/
LOCATION:De Open Hof\, Sleutelbloemstraat 1\, Assen\, Nederland
END:VEVENT
BEGIN:VEVENT
DTSTART;VALUE=DATE:20220904
DTEND;VALUE=DATE:20220905
DTSTAMP:20260420T135656
CREATED:20220721T200222Z
LAST-MODIFIED:20220806T082231Z
UID:5463-1662249600-1662335999@assenzoekt.nl
SUMMARY:Familiezondag
DESCRIPTION:Deze zondag speelt de Assen Zoekt Jukebox het nummer ‘Is this the world we created.’ Klik hier voor de link en een aantal vragen over dit oude maar toch actuele nummer\, om te overdenken of te bespreken in je huisgroep. \nEr is vandaag geen centrale samenkomst. In plaats daarvan komen de huigroepen  bij elkaar.
URL:https://assenzoekt.nl/event/familiezondag-7/
END:VEVENT
BEGIN:VEVENT
DTSTART;TZID=Europe/Amsterdam:20220828T111500
DTEND;TZID=Europe/Amsterdam:20220828T123000
DTSTAMP:20260420T135656
CREATED:20220721T195853Z
LAST-MODIFIED:20220721T195853Z
UID:5461-1661685300-1661689800@assenzoekt.nl
SUMMARY:Samenkomst
DESCRIPTION:Inloop 11.00\nStart 11.15
URL:https://assenzoekt.nl/event/samenkomst-59/
LOCATION:De Open Hof\, Sleutelbloemstraat 1\, Assen\, Nederland
END:VEVENT
BEGIN:VEVENT
DTSTART;TZID=Europe/Amsterdam:20220821T111500
DTEND;TZID=Europe/Amsterdam:20220821T123000
DTSTAMP:20260420T135656
CREATED:20220721T195804Z
LAST-MODIFIED:20220721T195804Z
UID:5457-1661080500-1661085000@assenzoekt.nl
SUMMARY:Samenkomst
DESCRIPTION:Inloop 11.00\nStart 11.15
URL:https://assenzoekt.nl/event/samenkomst-58/
LOCATION:De Open Hof\, Sleutelbloemstraat 1\, Assen\, Nederland
END:VEVENT
BEGIN:VEVENT
DTSTART;TZID=Europe/Amsterdam:20220814T111500
DTEND;TZID=Europe/Amsterdam:20220814T123000
DTSTAMP:20260420T135656
CREATED:20220721T195736Z
LAST-MODIFIED:20220721T195736Z
UID:5458-1660475700-1660480200@assenzoekt.nl
SUMMARY:Samenkomst
DESCRIPTION:Inloop 11.00\nStart 11.15
URL:https://assenzoekt.nl/event/samenkomst-57/
LOCATION:De Open Hof\, Sleutelbloemstraat 1\, Assen\, Nederland
END:VEVENT
END:VCALENDAR